BEGIN:VCALENDAR
VERSION:2.0
PRODID:-//Rederij Denick - ECPv6.3.5//NONSGML v1.0//EN
CALSCALE:GREGORIAN
METHOD:PUBLISH
X-WR-CALNAME:Rederij Denick
X-ORIGINAL-URL:https://denick.nl
X-WR-CALDESC:Evenementen voor Rederij Denick
REFRESH-INTERVAL;VALUE=DURATION:PT1H
X-Robots-Tag:noindex
X-PUBLISHED-TTL:PT1H
BEGIN:VTIMEZONE
TZID:Europe/Amsterdam
BEGIN:DAYLIGHT
TZOFFSETFROM:+0100
TZOFFSETTO:+0200
TZNAME:CEST
DTSTART:20250330T010000
END:DAYLIGHT
BEGIN:STANDARD
TZOFFSETFROM:+0200
TZOFFSETTO:+0100
TZNAME:CET
DTSTART:20251026T010000
END:STANDARD
END:VTIMEZONE
BEGIN:VEVENT
DTSTART;TZID=Europe/Amsterdam:20250813T123000
DTEND;TZID=Europe/Amsterdam:20250813T140000
DTSTAMP:20260417T145656
CREATED:20250811T084157Z
LAST-MODIFIED:20250811T084158Z
UID:11337-1755088200-1755093600@denick.nl
SUMMARY:Rondvaart Grevelingen (Middag)
DESCRIPTION:The Grevelingenmeer has very much species of birds and wild animals. Especially located on the islands and dry spots on the lake. take a seat and spot them with us!
URL:https://denick.nl/cruise/rondvaart-grevelingen-3/
LOCATION:Rederij Denick ouddorp\, Rederij Denick Rondvaart\, Ouddorp\, Zeeland
END:VEVENT
END:VCALENDAR