BEGIN:VCALENDAR
VERSION:2.0
PRODID:-//Rederij Denick - ECPv6.3.5//NONSGML v1.0//EN
CALSCALE:GREGORIAN
METHOD:PUBLISH
X-WR-CALNAME:Rederij Denick
X-ORIGINAL-URL:https://denick.nl
X-WR-CALDESC:Evenementen voor Rederij Denick
REFRESH-INTERVAL;VALUE=DURATION:PT1H
X-Robots-Tag:noindex
X-PUBLISHED-TTL:PT1H
BEGIN:VTIMEZONE
TZID:Europe/Amsterdam
BEGIN:DAYLIGHT
TZOFFSETFROM:+0100
TZOFFSETTO:+0200
TZNAME:CEST
DTSTART:20250330T010000
END:DAYLIGHT
BEGIN:STANDARD
TZOFFSETFROM:+0200
TZOFFSETTO:+0100
TZNAME:CET
DTSTART:20251026T010000
END:STANDARD
END:VTIMEZONE
BEGIN:VEVENT
DTSTART;VALUE=DATE:20250803
DTEND;VALUE=DATE:20250804
DTSTAMP:20260423T000525
CREATED:20250619T191606Z
LAST-MODIFIED:20250619T192350Z
UID:10003148-1754179200-1754265599@denick.nl
SUMMARY:Veerpont Kortgene - Wolphaartsdijk
DESCRIPTION:Flyer Veerpont IJmond Kortgene – Wolphaartsdijk \nVaarperiode: 4 juli t/m 31 augustus  \nzondag\, dinsdag\, woensdag en vrijdag.  \nKortgene vertrek: 10:30\, 11:30\, 12:30\, 13:30\, 14:30\, 15:30. \nWolphaartsdijk vertrek: 11:00\, 12:00\, 13:00\, 14:00\, 15:00\, 16:00. \nPrijzen:\n€3\,50 per persoon\nVoor een fiets €1\, extra\nFiets met fietskar €1\,50 \nOpstaplocatie Kortgene: Veerdam\, 4484 NV Kortgene\nhttps://maps.app.goo.gl/bYPcedMi3kS8kic77 \n  \nOpstaplocatie Wolphaartsdijk: Wolphaartsdijkseveer\, 4471 ND Wolphaartsdijk\nhttps://maps.app.goo.gl/4fengayU95nCrxQE7
URL:https://denick.nl/cruise/veerpont-kortgene-wolphaartsdijk-2/2025-08-03/
LOCATION:4471 ND Wolphaartsdijk\, 4471 ND Wolphaartsdijk\, Wolphaartsdijk\, 4471 ND\, Nederland
ORGANIZER;CN="Rederij Denick":MAILTO:info@denick.nl
END:VEVENT
END:VCALENDAR