BEGIN:VCALENDAR
VERSION:2.0
PRODID:-//Rederij Denick - ECPv6.3.5//NONSGML v1.0//EN
CALSCALE:GREGORIAN
METHOD:PUBLISH
X-WR-CALNAME:Rederij Denick
X-ORIGINAL-URL:https://denick.nl
X-WR-CALDESC:Evenementen voor Rederij Denick
REFRESH-INTERVAL;VALUE=DURATION:PT1H
X-Robots-Tag:noindex
X-PUBLISHED-TTL:PT1H
BEGIN:VTIMEZONE
TZID:Europe/Amsterdam
BEGIN:DAYLIGHT
TZOFFSETFROM:+0100
TZOFFSETTO:+0200
TZNAME:CEST
DTSTART:20250330T010000
END:DAYLIGHT
BEGIN:STANDARD
TZOFFSETFROM:+0200
TZOFFSETTO:+0100
TZNAME:CET
DTSTART:20251026T010000
END:STANDARD
END:VTIMEZONE
BEGIN:VEVENT
DTSTART;VALUE=DATE:20250729
DTEND;VALUE=DATE:20250730
DTSTAMP:20260423T000025
CREATED:20250619T191606Z
LAST-MODIFIED:20250619T192350Z
UID:10003146-1753747200-1753833599@denick.nl
SUMMARY:Veerpont Kortgene - Wolphaartsdijk
DESCRIPTION:Flyer Veerpont IJmond Kortgene – Wolphaartsdijk \nVaarperiode: 4 juli t/m 31 augustus  \nzondag\, dinsdag\, woensdag en vrijdag.  \nKortgene vertrek: 10:30\, 11:30\, 12:30\, 13:30\, 14:30\, 15:30. \nWolphaartsdijk vertrek: 11:00\, 12:00\, 13:00\, 14:00\, 15:00\, 16:00. \nPrijzen:\n€3\,50 per persoon\nVoor een fiets €1\, extra\nFiets met fietskar €1\,50 \nOpstaplocatie Kortgene: Veerdam\, 4484 NV Kortgene\nhttps://maps.app.goo.gl/bYPcedMi3kS8kic77 \n  \nOpstaplocatie Wolphaartsdijk: Wolphaartsdijkseveer\, 4471 ND Wolphaartsdijk\nhttps://maps.app.goo.gl/4fengayU95nCrxQE7
URL:https://denick.nl/cruise/veerpont-kortgene-wolphaartsdijk-2/2025-07-29/
LOCATION:4471 ND Wolphaartsdijk\, 4471 ND Wolphaartsdijk\, Wolphaartsdijk\, 4471 ND\, Nederland
ORGANIZER;CN="Rederij Denick":MAILTO:info@denick.nl
END:VEVENT
BEGIN:VEVENT
DTSTART;VALUE=DATE:20250727
DTEND;VALUE=DATE:20250728
DTSTAMP:20260423T000025
CREATED:20250619T191606Z
LAST-MODIFIED:20250619T192350Z
UID:10003145-1753574400-1753660799@denick.nl
SUMMARY:Veerpont Kortgene - Wolphaartsdijk
DESCRIPTION:Flyer Veerpont IJmond Kortgene – Wolphaartsdijk \nVaarperiode: 4 juli t/m 31 augustus  \nzondag\, dinsdag\, woensdag en vrijdag.  \nKortgene vertrek: 10:30\, 11:30\, 12:30\, 13:30\, 14:30\, 15:30. \nWolphaartsdijk vertrek: 11:00\, 12:00\, 13:00\, 14:00\, 15:00\, 16:00. \nPrijzen:\n€3\,50 per persoon\nVoor een fiets €1\, extra\nFiets met fietskar €1\,50 \nOpstaplocatie Kortgene: Veerdam\, 4484 NV Kortgene\nhttps://maps.app.goo.gl/bYPcedMi3kS8kic77 \n  \nOpstaplocatie Wolphaartsdijk: Wolphaartsdijkseveer\, 4471 ND Wolphaartsdijk\nhttps://maps.app.goo.gl/4fengayU95nCrxQE7
URL:https://denick.nl/cruise/veerpont-kortgene-wolphaartsdijk-2/2025-07-27/
LOCATION:4471 ND Wolphaartsdijk\, 4471 ND Wolphaartsdijk\, Wolphaartsdijk\, 4471 ND\, Nederland
ORGANIZER;CN="Rederij Denick":MAILTO:info@denick.nl
END:VEVENT
BEGIN:VEVENT
DTSTART;VALUE=DATE:20250725
DTEND;VALUE=DATE:20250726
DTSTAMP:20260423T000025
CREATED:20250619T191606Z
LAST-MODIFIED:20250619T192350Z
UID:10003352-1753401600-1753487999@denick.nl
SUMMARY:Veerpont Kortgene - Wolphaartsdijk
DESCRIPTION:Flyer Veerpont IJmond Kortgene – Wolphaartsdijk \nVaarperiode: 4 juli t/m 31 augustus  \nzondag\, dinsdag\, woensdag en vrijdag.  \nKortgene vertrek: 10:30\, 11:30\, 12:30\, 13:30\, 14:30\, 15:30. \nWolphaartsdijk vertrek: 11:00\, 12:00\, 13:00\, 14:00\, 15:00\, 16:00. \nPrijzen:\n€3\,50 per persoon\nVoor een fiets €1\, extra\nFiets met fietskar €1\,50 \nOpstaplocatie Kortgene: Veerdam\, 4484 NV Kortgene\nhttps://maps.app.goo.gl/bYPcedMi3kS8kic77 \n  \nOpstaplocatie Wolphaartsdijk: Wolphaartsdijkseveer\, 4471 ND Wolphaartsdijk\nhttps://maps.app.goo.gl/4fengayU95nCrxQE7
URL:https://denick.nl/cruise/veerpont-kortgene-wolphaartsdijk-2/2025-07-25/
LOCATION:4471 ND Wolphaartsdijk\, 4471 ND Wolphaartsdijk\, Wolphaartsdijk\, 4471 ND\, Nederland
ORGANIZER;CN="Rederij Denick":MAILTO:info@denick.nl
END:VEVENT
BEGIN:VEVENT
DTSTART;VALUE=DATE:20250723
DTEND;VALUE=DATE:20250724
DTSTAMP:20260423T000025
CREATED:20250619T191606Z
LAST-MODIFIED:20250619T192350Z
UID:10003144-1753228800-1753315199@denick.nl
SUMMARY:Veerpont Kortgene - Wolphaartsdijk
DESCRIPTION:Flyer Veerpont IJmond Kortgene – Wolphaartsdijk \nVaarperiode: 4 juli t/m 31 augustus  \nzondag\, dinsdag\, woensdag en vrijdag.  \nKortgene vertrek: 10:30\, 11:30\, 12:30\, 13:30\, 14:30\, 15:30. \nWolphaartsdijk vertrek: 11:00\, 12:00\, 13:00\, 14:00\, 15:00\, 16:00. \nPrijzen:\n€3\,50 per persoon\nVoor een fiets €1\, extra\nFiets met fietskar €1\,50 \nOpstaplocatie Kortgene: Veerdam\, 4484 NV Kortgene\nhttps://maps.app.goo.gl/bYPcedMi3kS8kic77 \n  \nOpstaplocatie Wolphaartsdijk: Wolphaartsdijkseveer\, 4471 ND Wolphaartsdijk\nhttps://maps.app.goo.gl/4fengayU95nCrxQE7
URL:https://denick.nl/cruise/veerpont-kortgene-wolphaartsdijk-2/2025-07-23/
LOCATION:4471 ND Wolphaartsdijk\, 4471 ND Wolphaartsdijk\, Wolphaartsdijk\, 4471 ND\, Nederland
ORGANIZER;CN="Rederij Denick":MAILTO:info@denick.nl
END:VEVENT
BEGIN:VEVENT
DTSTART;VALUE=DATE:20250722
DTEND;VALUE=DATE:20250723
DTSTAMP:20260423T000025
CREATED:20250619T191606Z
LAST-MODIFIED:20250619T192350Z
UID:10003143-1753142400-1753228799@denick.nl
SUMMARY:Veerpont Kortgene - Wolphaartsdijk
DESCRIPTION:Flyer Veerpont IJmond Kortgene – Wolphaartsdijk \nVaarperiode: 4 juli t/m 31 augustus  \nzondag\, dinsdag\, woensdag en vrijdag.  \nKortgene vertrek: 10:30\, 11:30\, 12:30\, 13:30\, 14:30\, 15:30. \nWolphaartsdijk vertrek: 11:00\, 12:00\, 13:00\, 14:00\, 15:00\, 16:00. \nPrijzen:\n€3\,50 per persoon\nVoor een fiets €1\, extra\nFiets met fietskar €1\,50 \nOpstaplocatie Kortgene: Veerdam\, 4484 NV Kortgene\nhttps://maps.app.goo.gl/bYPcedMi3kS8kic77 \n  \nOpstaplocatie Wolphaartsdijk: Wolphaartsdijkseveer\, 4471 ND Wolphaartsdijk\nhttps://maps.app.goo.gl/4fengayU95nCrxQE7
URL:https://denick.nl/cruise/veerpont-kortgene-wolphaartsdijk-2/2025-07-22/
LOCATION:4471 ND Wolphaartsdijk\, 4471 ND Wolphaartsdijk\, Wolphaartsdijk\, 4471 ND\, Nederland
ORGANIZER;CN="Rederij Denick":MAILTO:info@denick.nl
END:VEVENT
BEGIN:VEVENT
DTSTART;VALUE=DATE:20250720
DTEND;VALUE=DATE:20250721
DTSTAMP:20260423T000025
CREATED:20250619T191606Z
LAST-MODIFIED:20250619T192350Z
UID:10003142-1752969600-1753055999@denick.nl
SUMMARY:Veerpont Kortgene - Wolphaartsdijk
DESCRIPTION:Flyer Veerpont IJmond Kortgene – Wolphaartsdijk \nVaarperiode: 4 juli t/m 31 augustus  \nzondag\, dinsdag\, woensdag en vrijdag.  \nKortgene vertrek: 10:30\, 11:30\, 12:30\, 13:30\, 14:30\, 15:30. \nWolphaartsdijk vertrek: 11:00\, 12:00\, 13:00\, 14:00\, 15:00\, 16:00. \nPrijzen:\n€3\,50 per persoon\nVoor een fiets €1\, extra\nFiets met fietskar €1\,50 \nOpstaplocatie Kortgene: Veerdam\, 4484 NV Kortgene\nhttps://maps.app.goo.gl/bYPcedMi3kS8kic77 \n  \nOpstaplocatie Wolphaartsdijk: Wolphaartsdijkseveer\, 4471 ND Wolphaartsdijk\nhttps://maps.app.goo.gl/4fengayU95nCrxQE7
URL:https://denick.nl/cruise/veerpont-kortgene-wolphaartsdijk-2/2025-07-20/
LOCATION:4471 ND Wolphaartsdijk\, 4471 ND Wolphaartsdijk\, Wolphaartsdijk\, 4471 ND\, Nederland
ORGANIZER;CN="Rederij Denick":MAILTO:info@denick.nl
END:VEVENT
BEGIN:VEVENT
DTSTART;VALUE=DATE:20250718
DTEND;VALUE=DATE:20250719
DTSTAMP:20260423T000025
CREATED:20250619T191606Z
LAST-MODIFIED:20250619T192350Z
UID:10003351-1752796800-1752883199@denick.nl
SUMMARY:Veerpont Kortgene - Wolphaartsdijk
DESCRIPTION:Flyer Veerpont IJmond Kortgene – Wolphaartsdijk \nVaarperiode: 4 juli t/m 31 augustus  \nzondag\, dinsdag\, woensdag en vrijdag.  \nKortgene vertrek: 10:30\, 11:30\, 12:30\, 13:30\, 14:30\, 15:30. \nWolphaartsdijk vertrek: 11:00\, 12:00\, 13:00\, 14:00\, 15:00\, 16:00. \nPrijzen:\n€3\,50 per persoon\nVoor een fiets €1\, extra\nFiets met fietskar €1\,50 \nOpstaplocatie Kortgene: Veerdam\, 4484 NV Kortgene\nhttps://maps.app.goo.gl/bYPcedMi3kS8kic77 \n  \nOpstaplocatie Wolphaartsdijk: Wolphaartsdijkseveer\, 4471 ND Wolphaartsdijk\nhttps://maps.app.goo.gl/4fengayU95nCrxQE7
URL:https://denick.nl/cruise/veerpont-kortgene-wolphaartsdijk-2/2025-07-18/
LOCATION:4471 ND Wolphaartsdijk\, 4471 ND Wolphaartsdijk\, Wolphaartsdijk\, 4471 ND\, Nederland
ORGANIZER;CN="Rederij Denick":MAILTO:info@denick.nl
END:VEVENT
BEGIN:VEVENT
DTSTART;VALUE=DATE:20250716
DTEND;VALUE=DATE:20250717
DTSTAMP:20260423T000025
CREATED:20250619T191606Z
LAST-MODIFIED:20250619T192350Z
UID:10003141-1752624000-1752710399@denick.nl
SUMMARY:Veerpont Kortgene - Wolphaartsdijk
DESCRIPTION:Flyer Veerpont IJmond Kortgene – Wolphaartsdijk \nVaarperiode: 4 juli t/m 31 augustus  \nzondag\, dinsdag\, woensdag en vrijdag.  \nKortgene vertrek: 10:30\, 11:30\, 12:30\, 13:30\, 14:30\, 15:30. \nWolphaartsdijk vertrek: 11:00\, 12:00\, 13:00\, 14:00\, 15:00\, 16:00. \nPrijzen:\n€3\,50 per persoon\nVoor een fiets €1\, extra\nFiets met fietskar €1\,50 \nOpstaplocatie Kortgene: Veerdam\, 4484 NV Kortgene\nhttps://maps.app.goo.gl/bYPcedMi3kS8kic77 \n  \nOpstaplocatie Wolphaartsdijk: Wolphaartsdijkseveer\, 4471 ND Wolphaartsdijk\nhttps://maps.app.goo.gl/4fengayU95nCrxQE7
URL:https://denick.nl/cruise/veerpont-kortgene-wolphaartsdijk-2/2025-07-16/
LOCATION:4471 ND Wolphaartsdijk\, 4471 ND Wolphaartsdijk\, Wolphaartsdijk\, 4471 ND\, Nederland
ORGANIZER;CN="Rederij Denick":MAILTO:info@denick.nl
END:VEVENT
BEGIN:VEVENT
DTSTART;VALUE=DATE:20250715
DTEND;VALUE=DATE:20250716
DTSTAMP:20260423T000025
CREATED:20250619T191606Z
LAST-MODIFIED:20250619T192350Z
UID:10003140-1752537600-1752623999@denick.nl
SUMMARY:Veerpont Kortgene - Wolphaartsdijk
DESCRIPTION:Flyer Veerpont IJmond Kortgene – Wolphaartsdijk \nVaarperiode: 4 juli t/m 31 augustus  \nzondag\, dinsdag\, woensdag en vrijdag.  \nKortgene vertrek: 10:30\, 11:30\, 12:30\, 13:30\, 14:30\, 15:30. \nWolphaartsdijk vertrek: 11:00\, 12:00\, 13:00\, 14:00\, 15:00\, 16:00. \nPrijzen:\n€3\,50 per persoon\nVoor een fiets €1\, extra\nFiets met fietskar €1\,50 \nOpstaplocatie Kortgene: Veerdam\, 4484 NV Kortgene\nhttps://maps.app.goo.gl/bYPcedMi3kS8kic77 \n  \nOpstaplocatie Wolphaartsdijk: Wolphaartsdijkseveer\, 4471 ND Wolphaartsdijk\nhttps://maps.app.goo.gl/4fengayU95nCrxQE7
URL:https://denick.nl/cruise/veerpont-kortgene-wolphaartsdijk-2/2025-07-15/
LOCATION:4471 ND Wolphaartsdijk\, 4471 ND Wolphaartsdijk\, Wolphaartsdijk\, 4471 ND\, Nederland
ORGANIZER;CN="Rederij Denick":MAILTO:info@denick.nl
END:VEVENT
BEGIN:VEVENT
DTSTART;VALUE=DATE:20250713
DTEND;VALUE=DATE:20250714
DTSTAMP:20260423T000025
CREATED:20250619T191606Z
LAST-MODIFIED:20250619T192350Z
UID:10003139-1752364800-1752451199@denick.nl
SUMMARY:Veerpont Kortgene - Wolphaartsdijk
DESCRIPTION:Flyer Veerpont IJmond Kortgene – Wolphaartsdijk \nVaarperiode: 4 juli t/m 31 augustus  \nzondag\, dinsdag\, woensdag en vrijdag.  \nKortgene vertrek: 10:30\, 11:30\, 12:30\, 13:30\, 14:30\, 15:30. \nWolphaartsdijk vertrek: 11:00\, 12:00\, 13:00\, 14:00\, 15:00\, 16:00. \nPrijzen:\n€3\,50 per persoon\nVoor een fiets €1\, extra\nFiets met fietskar €1\,50 \nOpstaplocatie Kortgene: Veerdam\, 4484 NV Kortgene\nhttps://maps.app.goo.gl/bYPcedMi3kS8kic77 \n  \nOpstaplocatie Wolphaartsdijk: Wolphaartsdijkseveer\, 4471 ND Wolphaartsdijk\nhttps://maps.app.goo.gl/4fengayU95nCrxQE7
URL:https://denick.nl/cruise/veerpont-kortgene-wolphaartsdijk-2/2025-07-13/
LOCATION:4471 ND Wolphaartsdijk\, 4471 ND Wolphaartsdijk\, Wolphaartsdijk\, 4471 ND\, Nederland
ORGANIZER;CN="Rederij Denick":MAILTO:info@denick.nl
END:VEVENT
BEGIN:VEVENT
DTSTART;VALUE=DATE:20250711
DTEND;VALUE=DATE:20250712
DTSTAMP:20260423T000025
CREATED:20250619T191606Z
LAST-MODIFIED:20250619T192350Z
UID:10003350-1752192000-1752278399@denick.nl
SUMMARY:Veerpont Kortgene - Wolphaartsdijk
DESCRIPTION:Flyer Veerpont IJmond Kortgene – Wolphaartsdijk \nVaarperiode: 4 juli t/m 31 augustus  \nzondag\, dinsdag\, woensdag en vrijdag.  \nKortgene vertrek: 10:30\, 11:30\, 12:30\, 13:30\, 14:30\, 15:30. \nWolphaartsdijk vertrek: 11:00\, 12:00\, 13:00\, 14:00\, 15:00\, 16:00. \nPrijzen:\n€3\,50 per persoon\nVoor een fiets €1\, extra\nFiets met fietskar €1\,50 \nOpstaplocatie Kortgene: Veerdam\, 4484 NV Kortgene\nhttps://maps.app.goo.gl/bYPcedMi3kS8kic77 \n  \nOpstaplocatie Wolphaartsdijk: Wolphaartsdijkseveer\, 4471 ND Wolphaartsdijk\nhttps://maps.app.goo.gl/4fengayU95nCrxQE7
URL:https://denick.nl/cruise/veerpont-kortgene-wolphaartsdijk-2/2025-07-11/
LOCATION:4471 ND Wolphaartsdijk\, 4471 ND Wolphaartsdijk\, Wolphaartsdijk\, 4471 ND\, Nederland
ORGANIZER;CN="Rederij Denick":MAILTO:info@denick.nl
END:VEVENT
BEGIN:VEVENT
DTSTART;VALUE=DATE:20250709
DTEND;VALUE=DATE:20250710
DTSTAMP:20260423T000025
CREATED:20250619T191606Z
LAST-MODIFIED:20250619T192350Z
UID:10003138-1752019200-1752105599@denick.nl
SUMMARY:Veerpont Kortgene - Wolphaartsdijk
DESCRIPTION:Flyer Veerpont IJmond Kortgene – Wolphaartsdijk \nVaarperiode: 4 juli t/m 31 augustus  \nzondag\, dinsdag\, woensdag en vrijdag.  \nKortgene vertrek: 10:30\, 11:30\, 12:30\, 13:30\, 14:30\, 15:30. \nWolphaartsdijk vertrek: 11:00\, 12:00\, 13:00\, 14:00\, 15:00\, 16:00. \nPrijzen:\n€3\,50 per persoon\nVoor een fiets €1\, extra\nFiets met fietskar €1\,50 \nOpstaplocatie Kortgene: Veerdam\, 4484 NV Kortgene\nhttps://maps.app.goo.gl/bYPcedMi3kS8kic77 \n  \nOpstaplocatie Wolphaartsdijk: Wolphaartsdijkseveer\, 4471 ND Wolphaartsdijk\nhttps://maps.app.goo.gl/4fengayU95nCrxQE7
URL:https://denick.nl/cruise/veerpont-kortgene-wolphaartsdijk-2/2025-07-09/
LOCATION:4471 ND Wolphaartsdijk\, 4471 ND Wolphaartsdijk\, Wolphaartsdijk\, 4471 ND\, Nederland
ORGANIZER;CN="Rederij Denick":MAILTO:info@denick.nl
END:VEVENT
BEGIN:VEVENT
DTSTART;VALUE=DATE:20250708
DTEND;VALUE=DATE:20250709
DTSTAMP:20260423T000025
CREATED:20250619T191606Z
LAST-MODIFIED:20250619T192350Z
UID:10003137-1751932800-1752019199@denick.nl
SUMMARY:Veerpont Kortgene - Wolphaartsdijk
DESCRIPTION:Flyer Veerpont IJmond Kortgene – Wolphaartsdijk \nVaarperiode: 4 juli t/m 31 augustus  \nzondag\, dinsdag\, woensdag en vrijdag.  \nKortgene vertrek: 10:30\, 11:30\, 12:30\, 13:30\, 14:30\, 15:30. \nWolphaartsdijk vertrek: 11:00\, 12:00\, 13:00\, 14:00\, 15:00\, 16:00. \nPrijzen:\n€3\,50 per persoon\nVoor een fiets €1\, extra\nFiets met fietskar €1\,50 \nOpstaplocatie Kortgene: Veerdam\, 4484 NV Kortgene\nhttps://maps.app.goo.gl/bYPcedMi3kS8kic77 \n  \nOpstaplocatie Wolphaartsdijk: Wolphaartsdijkseveer\, 4471 ND Wolphaartsdijk\nhttps://maps.app.goo.gl/4fengayU95nCrxQE7
URL:https://denick.nl/cruise/veerpont-kortgene-wolphaartsdijk-2/2025-07-08/
LOCATION:4471 ND Wolphaartsdijk\, 4471 ND Wolphaartsdijk\, Wolphaartsdijk\, 4471 ND\, Nederland
ORGANIZER;CN="Rederij Denick":MAILTO:info@denick.nl
END:VEVENT
BEGIN:VEVENT
DTSTART;VALUE=DATE:20250706
DTEND;VALUE=DATE:20250707
DTSTAMP:20260423T000025
CREATED:20250619T191606Z
LAST-MODIFIED:20250619T192350Z
UID:10003136-1751760000-1751846399@denick.nl
SUMMARY:Veerpont Kortgene - Wolphaartsdijk
DESCRIPTION:Flyer Veerpont IJmond Kortgene – Wolphaartsdijk \nVaarperiode: 4 juli t/m 31 augustus  \nzondag\, dinsdag\, woensdag en vrijdag.  \nKortgene vertrek: 10:30\, 11:30\, 12:30\, 13:30\, 14:30\, 15:30. \nWolphaartsdijk vertrek: 11:00\, 12:00\, 13:00\, 14:00\, 15:00\, 16:00. \nPrijzen:\n€3\,50 per persoon\nVoor een fiets €1\, extra\nFiets met fietskar €1\,50 \nOpstaplocatie Kortgene: Veerdam\, 4484 NV Kortgene\nhttps://maps.app.goo.gl/bYPcedMi3kS8kic77 \n  \nOpstaplocatie Wolphaartsdijk: Wolphaartsdijkseveer\, 4471 ND Wolphaartsdijk\nhttps://maps.app.goo.gl/4fengayU95nCrxQE7
URL:https://denick.nl/cruise/veerpont-kortgene-wolphaartsdijk-2/2025-07-06/
LOCATION:4471 ND Wolphaartsdijk\, 4471 ND Wolphaartsdijk\, Wolphaartsdijk\, 4471 ND\, Nederland
ORGANIZER;CN="Rederij Denick":MAILTO:info@denick.nl
END:VEVENT
BEGIN:VEVENT
DTSTART;VALUE=DATE:20250704
DTEND;VALUE=DATE:20250705
DTSTAMP:20260423T000025
CREATED:20250619T191606Z
LAST-MODIFIED:20250619T192350Z
UID:10003130-1751587200-1751673599@denick.nl
SUMMARY:Veerpont Kortgene - Wolphaartsdijk
DESCRIPTION:Flyer Veerpont IJmond Kortgene – Wolphaartsdijk \nVaarperiode: 4 juli t/m 31 augustus  \nzondag\, dinsdag\, woensdag en vrijdag.  \nKortgene vertrek: 10:30\, 11:30\, 12:30\, 13:30\, 14:30\, 15:30. \nWolphaartsdijk vertrek: 11:00\, 12:00\, 13:00\, 14:00\, 15:00\, 16:00. \nPrijzen:\n€3\,50 per persoon\nVoor een fiets €1\, extra\nFiets met fietskar €1\,50 \nOpstaplocatie Kortgene: Veerdam\, 4484 NV Kortgene\nhttps://maps.app.goo.gl/bYPcedMi3kS8kic77 \n  \nOpstaplocatie Wolphaartsdijk: Wolphaartsdijkseveer\, 4471 ND Wolphaartsdijk\nhttps://maps.app.goo.gl/4fengayU95nCrxQE7
URL:https://denick.nl/cruise/veerpont-kortgene-wolphaartsdijk-2/2025-07-04/
LOCATION:4471 ND Wolphaartsdijk\, 4471 ND Wolphaartsdijk\, Wolphaartsdijk\, 4471 ND\, Nederland
ORGANIZER;CN="Rederij Denick":MAILTO:info@denick.nl
END:VEVENT
END:VCALENDAR